BEGIN:VCALENDAR
VERSION:2.0
PRODID:-//Montessori of Lemont - ECPv6.15.20//NONSGML v1.0//EN
CALSCALE:GREGORIAN
METHOD:PUBLISH
X-ORIGINAL-URL:https://lemontmontessori.com
X-WR-CALDESC:Events for Montessori of Lemont
REFRESH-INTERVAL;VALUE=DURATION:PT1H
X-Robots-Tag:noindex
X-PUBLISHED-TTL:PT1H
BEGIN:VTIMEZONE
TZID:UTC
BEGIN:STANDARD
TZOFFSETFROM:+0000
TZOFFSETTO:+0000
TZNAME:UTC
DTSTART:20240101T000000
END:STANDARD
END:VTIMEZONE
BEGIN:VEVENT
DTSTART;TZID=UTC:20250425T080000
DTEND;TZID=UTC:20250425T170000
DTSTAMP:20260422T032024
CREATED:20250407T174418Z
LAST-MODIFIED:20250407T174457Z
UID:17098-1745568000-1745600400@lemontmontessori.com
SUMMARY:Half Day 11:30 am Dismissal - Annual Auction "Casino Night"
DESCRIPTION:
URL:https://lemontmontessori.com/event/half-day-1130-am-dismissal-annual-auction-casino-night/
END:VEVENT
END:VCALENDAR