BEGIN:VCALENDAR
VERSION:2.0
PRODID:-//Montessori of Lemont - ECPv6.15.20//NONSGML v1.0//EN
CALSCALE:GREGORIAN
METHOD:PUBLISH
X-ORIGINAL-URL:https://lemontmontessori.com
X-WR-CALDESC:Events for Montessori of Lemont
REFRESH-INTERVAL;VALUE=DURATION:PT1H
X-Robots-Tag:noindex
X-PUBLISHED-TTL:PT1H
BEGIN:VTIMEZONE
TZID:UTC
BEGIN:STANDARD
TZOFFSETFROM:+0000
TZOFFSETTO:+0000
TZNAME:UTC
DTSTART:20240101T000000
END:STANDARD
END:VTIMEZONE
BEGIN:VEVENT
DTSTART;VALUE=DATE:20250526
DTEND;VALUE=DATE:20250527
DTSTAMP:20260422T005516
CREATED:20250407T180204Z
LAST-MODIFIED:20250407T180204Z
UID:17120-1748217600-1748303999@lemontmontessori.com
SUMMARY:Memorial Day - No School
DESCRIPTION:
URL:https://lemontmontessori.com/event/memorial-day-no-school/
END:VEVENT
END:VCALENDAR