BEGIN:VCALENDAR
VERSION:2.0
PRODID:-//Montessori of Lemont - ECPv6.15.20//NONSGML v1.0//EN
CALSCALE:GREGORIAN
METHOD:PUBLISH
X-WR-CALNAME:Montessori of Lemont
X-ORIGINAL-URL:https://lemontmontessori.com
X-WR-CALDESC:Events for Montessori of Lemont
REFRESH-INTERVAL;VALUE=DURATION:PT1H
X-Robots-Tag:noindex
X-PUBLISHED-TTL:PT1H
BEGIN:VTIMEZONE
TZID:UTC
BEGIN:STANDARD
TZOFFSETFROM:+0000
TZOFFSETTO:+0000
TZNAME:UTC
DTSTART:20240101T000000
END:STANDARD
END:VTIMEZONE
BEGIN:VEVENT
DTSTART;TZID=UTC:20250814T183000
DTEND;TZID=UTC:20250814T213000
DTSTAMP:20260421T220725
CREATED:20250806T183804Z
LAST-MODIFIED:20250806T183804Z
UID:17180-1755196200-1755207000@lemontmontessori.com
SUMMARY:Movie Night (Dusk) - Ratatouille
DESCRIPTION:
URL:https://lemontmontessori.com/event/movie-night-dusk-ratatouille/
END:VEVENT
END:VCALENDAR