BEGIN:VCALENDAR
VERSION:2.0
PRODID:-//Montessori of Lemont - ECPv6.15.20//NONSGML v1.0//EN
CALSCALE:GREGORIAN
METHOD:PUBLISH
X-ORIGINAL-URL:https://lemontmontessori.com
X-WR-CALDESC:Events for Montessori of Lemont
REFRESH-INTERVAL;VALUE=DURATION:PT1H
X-Robots-Tag:noindex
X-PUBLISHED-TTL:PT1H
BEGIN:VTIMEZONE
TZID:UTC
BEGIN:STANDARD
TZOFFSETFROM:+0000
TZOFFSETTO:+0000
TZNAME:UTC
DTSTART:20240101T000000
END:STANDARD
END:VTIMEZONE
BEGIN:VEVENT
DTSTART;VALUE=DATE:20250901
DTEND;VALUE=DATE:20250902
DTSTAMP:20260421T195110
CREATED:20250806T185743Z
LAST-MODIFIED:20250806T185743Z
UID:17201-1756684800-1756771199@lemontmontessori.com
SUMMARY:Labor Day - NO SCHOOL
DESCRIPTION:
URL:https://lemontmontessori.com/event/labor-day-no-school/
END:VEVENT
BEGIN:VEVENT
DTSTART;VALUE=DATE:20250902
DTEND;VALUE=DATE:20250903
DTSTAMP:20260421T195110
CREATED:20250806T185959Z
LAST-MODIFIED:20250806T185959Z
UID:17203-1756771200-1756857599@lemontmontessori.com
SUMMARY:First Day for Preschool Students and Regular Schedule for all Students
DESCRIPTION:
URL:https://lemontmontessori.com/event/first-day-for-preschool-students-and-regular-schedule-for-all-students/
END:VEVENT
BEGIN:VEVENT
DTSTART;TZID=UTC:20250902T084500
DTEND;TZID=UTC:20250902T094500
DTSTAMP:20260421T195110
CREATED:20250806T190159Z
LAST-MODIFIED:20250806T190159Z
UID:17205-1756802700-1756806300@lemontmontessori.com
SUMMARY:Coffee in the Courtyard (Meet and greet for new parents)
DESCRIPTION:
URL:https://lemontmontessori.com/event/coffee-in-the-courtyard-meet-and-greet-for-new-parents/
END:VEVENT
BEGIN:VEVENT
DTSTART;TZID=UTC:20250911T183000
DTEND;TZID=UTC:20250911T203000
DTSTAMP:20260421T195110
CREATED:20250806T190539Z
LAST-MODIFIED:20250905T140335Z
UID:17209-1757615400-1757622600@lemontmontessori.com
SUMMARY:Parent Education Night
DESCRIPTION:
URL:https://lemontmontessori.com/event/parent-education-night/
END:VEVENT
BEGIN:VEVENT
DTSTART;VALUE=DATE:20250916
DTEND;VALUE=DATE:20250917
DTSTAMP:20260421T195110
CREATED:20250806T190344Z
LAST-MODIFIED:20250806T190344Z
UID:17207-1757980800-1758067199@lemontmontessori.com
SUMMARY:Class Portraits
DESCRIPTION:
URL:https://lemontmontessori.com/event/class-portraits/
END:VEVENT
BEGIN:VEVENT
DTSTART;TZID=UTC:20250927T083000
DTEND;TZID=UTC:20250927T110000
DTSTAMP:20260421T195110
CREATED:20250806T190636Z
LAST-MODIFIED:20250806T190636Z
UID:17211-1758961800-1758970800@lemontmontessori.com
SUMMARY:Walk-Jog-Run!
DESCRIPTION:
URL:https://lemontmontessori.com/event/walk-jog-run/
END:VEVENT
END:VCALENDAR