BEGIN:VCALENDAR
VERSION:2.0
PRODID:-//Montessori of Lemont - ECPv6.15.20//NONSGML v1.0//EN
CALSCALE:GREGORIAN
METHOD:PUBLISH
X-WR-CALNAME:Montessori of Lemont
X-ORIGINAL-URL:https://lemontmontessori.com
X-WR-CALDESC:Events for Montessori of Lemont
REFRESH-INTERVAL;VALUE=DURATION:PT1H
X-Robots-Tag:noindex
X-PUBLISHED-TTL:PT1H
BEGIN:VTIMEZONE
TZID:UTC
BEGIN:STANDARD
TZOFFSETFROM:+0000
TZOFFSETTO:+0000
TZNAME:UTC
DTSTART:20240101T000000
END:STANDARD
END:VTIMEZONE
BEGIN:VEVENT
DTSTART;VALUE=DATE:20251003
DTEND;VALUE=DATE:20251004
DTSTAMP:20260421T182759
CREATED:20250918T154033Z
LAST-MODIFIED:20250918T154141Z
UID:17232-1759449600-1759535999@lemontmontessori.com
SUMMARY:Golf Outing!  Half Day of School 11:30 am Dismissal
DESCRIPTION:
URL:https://lemontmontessori.com/event/golf-outing-half-day-of-school-1130-am-dismissal/
END:VEVENT
BEGIN:VEVENT
DTSTART;VALUE=DATE:20251010
DTEND;VALUE=DATE:20251011
DTSTAMP:20260421T182759
CREATED:20250918T154241Z
LAST-MODIFIED:20250918T154241Z
UID:17234-1760054400-1760140799@lemontmontessori.com
SUMMARY:Teacher In-Service Day - No Classes
DESCRIPTION:
URL:https://lemontmontessori.com/event/teacher-in-service-day-no-classes-2/
END:VEVENT
BEGIN:VEVENT
DTSTART;VALUE=DATE:20251013
DTEND;VALUE=DATE:20251014
DTSTAMP:20260421T182759
CREATED:20250918T154408Z
LAST-MODIFIED:20250918T154408Z
UID:17236-1760313600-1760399999@lemontmontessori.com
SUMMARY:Columbus Day/Indigenous Peoples Day - No School
DESCRIPTION:
URL:https://lemontmontessori.com/event/columbus-day-indigenous-peoples-day-no-school/
END:VEVENT
BEGIN:VEVENT
DTSTART;VALUE=DATE:20251017
DTEND;VALUE=DATE:20251018
DTSTAMP:20260421T182759
CREATED:20250918T154530Z
LAST-MODIFIED:20250918T154530Z
UID:17238-1760659200-1760745599@lemontmontessori.com
SUMMARY:Campus Care Day - Please Volunteer!
DESCRIPTION:
URL:https://lemontmontessori.com/event/campus-care-day-please-volunteer/
END:VEVENT
BEGIN:VEVENT
DTSTART;TZID=UTC:20251018T120000
DTEND;TZID=UTC:20251018T150000
DTSTAMP:20260421T182759
CREATED:20250918T154642Z
LAST-MODIFIED:20250918T154642Z
UID:17240-1760788800-1760799600@lemontmontessori.com
SUMMARY:Fall Fest!
DESCRIPTION:
URL:https://lemontmontessori.com/event/fall-fest/
END:VEVENT
BEGIN:VEVENT
DTSTART;VALUE=DATE:20251031
DTEND;VALUE=DATE:20251101
DTSTAMP:20260421T182759
CREATED:20250918T154827Z
LAST-MODIFIED:20250918T154827Z
UID:17242-1761868800-1761955199@lemontmontessori.com
SUMMARY:Holiday Half Day! - 11:30am Dismissal
DESCRIPTION:
URL:https://lemontmontessori.com/event/holiday-half-day-1130am-dismissal/
END:VEVENT
END:VCALENDAR